BEGIN:VCALENDAR
VERSION:2.0
PRODID:-//Tukios.com/
BEGIN:VEVENT
UID:2b5652ad-1fcd-498b-a9e0-b81d1c1d376c@www.thurston-lindberg.com
DTSTAMP:20260421T040136Z
DTSTART:20260501T190000Z
DTEND:20260501T200000Z
SUMMARY:Celebration of Life
DESCRIPTION:
URL:https://www.thurston-lindberg.com/obituaries/barbara-murray
LOCATION: 2005 Branch Ave  Anoka MN 55303
GEO:45.1996098;-93.3945241
END:VEVENT
END:VCALENDAR