BEGIN:VCALENDAR
VERSION:2.0
PRODID:-//Tukios.com/
BEGIN:VEVENT
UID:1a753b94-6f59-4970-8e55-030acef91e6a@www.thurston-lindberg.com
DTSTAMP:20260421T035556Z
DTSTART:20260501T180000Z
DTEND:20260501T190000Z
SUMMARY:Visitation
DESCRIPTION:
URL:https://www.thurston-lindberg.com/obituaries/barbara-murray
LOCATION: 2005 Branch Ave  Anoka MN 55303
GEO:45.1996098;-93.3945241
END:VEVENT
END:VCALENDAR